BEGIN:VCALENDAR
VERSION:2.0
PRODID:-//jEvents 2.0 for Joomla//EN
CALSCALE:GREGORIAN
METHOD:PUBLISH
BEGIN:VTIMEZONE
TZID:Europe/Berlin
BEGIN:STANDARD
DTSTART:20241204T000000
RDATE:20250330T030000
TZOFFSETFROM:+0200
TZOFFSETTO:+0100
TZNAME:Europe/Berlin CET
END:STANDARD
BEGIN:STANDARD
DTSTART:20251026T020000
RDATE:20260329T030000
TZOFFSETFROM:+0200
TZOFFSETTO:+0100
TZNAME:Europe/Berlin CET
END:STANDARD
BEGIN:STANDARD
DTSTART:20261025T020000
RDATE:20270328T030000
TZOFFSETFROM:+0200
TZOFFSETTO:+0100
TZNAME:Europe/Berlin CET
END:STANDARD
BEGIN:STANDARD
DTSTART:20271031T020000
RDATE:20280326T030000
TZOFFSETFROM:+0200
TZOFFSETTO:+0100
TZNAME:Europe/Berlin CET
END:STANDARD
BEGIN:STANDARD
DTSTART:20281029T020000
RDATE:20290325T030000
TZOFFSETFROM:+0200
TZOFFSETTO:+0100
TZNAME:Europe/Berlin CET
END:STANDARD
BEGIN:STANDARD
DTSTART:20291028T020000
RDATE:20300331T030000
TZOFFSETFROM:+0200
TZOFFSETTO:+0100
TZNAME:Europe/Berlin CET
END:STANDARD
BEGIN:STANDARD
DTSTART:20301027T020000
RDATE:20310330T030000
TZOFFSETFROM:+0200
TZOFFSETTO:+0100
TZNAME:Europe/Berlin CET
END:STANDARD
BEGIN:STANDARD
DTSTART:20311026T020000
RDATE:20320328T030000
TZOFFSETFROM:+0200
TZOFFSETTO:+0100
TZNAME:Europe/Berlin CET
END:STANDARD
BEGIN:DAYLIGHT
DTSTART:20250330T030000
RDATE:20251026T020000
TZOFFSETFROM:+0100
TZOFFSETTO:+0200
TZNAME:Europe/Berlin CEST
END:DAYLIGHT
BEGIN:DAYLIGHT
DTSTART:20260329T030000
RDATE:20261025T020000
TZOFFSETFROM:+0100
TZOFFSETTO:+0200
TZNAME:Europe/Berlin CEST
END:DAYLIGHT
BEGIN:DAYLIGHT
DTSTART:20270328T030000
RDATE:20271031T020000
TZOFFSETFROM:+0100
TZOFFSETTO:+0200
TZNAME:Europe/Berlin CEST
END:DAYLIGHT
BEGIN:DAYLIGHT
DTSTART:20280326T030000
RDATE:20281029T020000
TZOFFSETFROM:+0100
TZOFFSETTO:+0200
TZNAME:Europe/Berlin CEST
END:DAYLIGHT
BEGIN:DAYLIGHT
DTSTART:20290325T030000
RDATE:20291028T020000
TZOFFSETFROM:+0100
TZOFFSETTO:+0200
TZNAME:Europe/Berlin CEST
END:DAYLIGHT
BEGIN:DAYLIGHT
DTSTART:20300331T030000
RDATE:20301027T020000
TZOFFSETFROM:+0100
TZOFFSETTO:+0200
TZNAME:Europe/Berlin CEST
END:DAYLIGHT
BEGIN:DAYLIGHT
DTSTART:20310330T030000
RDATE:20311026T020000
TZOFFSETFROM:+0100
TZOFFSETTO:+0200
TZNAME:Europe/Berlin CEST
END:DAYLIGHT
END:VTIMEZONE
BEGIN:VEVENT
UID:611bbb547609f918a23216c09fe0ea2f
CATEGORIES:Veranstaltungen anderer SV-Verbindungen
CREATED:20250613T184448
SUMMARY:[MVL!] - Nikolaus-Nordlichter-Kreuz-Kneipe
LOCATION:AMV Albingia Kiel
DESCRIPTION:Unsere Kieler Schwesterverbindung, die AMV Albingia Kiel, richtet in diesem
  Jahr die Nikolaus-Nordlichter-Kreuz-Kneipe aus, zu der alle norddeutschen 
 Verbindungen angereist kommen. Typischerweise steht diese Kneipe unter eine
 m Motto, das dazu einläd, sich mit Kostümen herrlich auszutoben. Und ein Ra
 hmenprogramm gibt es auch noch dazu an dem Wochenende.\nDa wir selbst nicht
  Ausrichter sind, ist zur Teilnahme eine Anmeldung unter Diese E-Mail-Adres
 se ist vor Spambots geschützt! Zur Anzeige muss JavaScript eingeschaltet se
 in. leider zwingend notwendig\n
X-ALT-DESC;FMTTYPE=text/html:<p>Unsere Kieler Schwesterverbindung, die AMV Albingia Kiel, richtet in die
 sem Jahr die Nikolaus-Nordlichter-Kreuz-Kneipe aus, zu der alle norddeutsch
 en Verbindungen angereist kommen. Typischerweise steht diese Kneipe unter e
 inem Motto, das dazu einläd, sich mit Kostümen herrlich auszutoben. Und ein
  Rahmenprogramm gibt es auch noch dazu an dem Wochenende.</p><p class="list
 -group-item-success" style="text-align: center;">Da wir selbst nicht Ausric
 hter sind, ist zur Teilnahme eine&nbsp;<strong>Anmeldung</strong> unter&nbs
 p;<strong><joomla-hidden-mail  is-link="1" is-email="1" first="dm9yc3RhbmQ=
 " last="bGl1YmljaWEuZGU=" text="dm9yc3RhbmRAbGl1YmljaWEuZGU=" base="" >Dies
 e E-Mail-Adresse ist vor Spambots geschützt! Zur Anzeige muss JavaScript ei
 ngeschaltet sein.</joomla-hidden-mail>&nbsp;</strong>leider zwingend notwen
 dig</p>
CONTACT:Diese E-Mail-Adresse ist vor Spambots geschützt! Zur Anzeige muss JavaScript eingeschaltet sein.
DTSTAMP:20260419T171853
DTSTART;TZID=Europe/Berlin;VALUE=DATE:20251205
DTEND;TZID=Europe/Berlin;VALUE=DATE:20251208
SEQUENCE:0
TRANSP:OPAQUE
END:VEVENT
END:VCALENDAR