BEGIN:VCALENDAR
VERSION:2.0
PRODID:-//jEvents 2.0 for Joomla//EN
CALSCALE:GREGORIAN
METHOD:PUBLISH
BEGIN:VTIMEZONE
TZID:Europe/Berlin
BEGIN:STANDARD
DTSTART:20250109T180000
RDATE:20250330T030000
TZOFFSETFROM:+0200
TZOFFSETTO:+0100
TZNAME:Europe/Berlin CET
END:STANDARD
BEGIN:STANDARD
DTSTART:20251026T020000
RDATE:20260329T030000
TZOFFSETFROM:+0200
TZOFFSETTO:+0100
TZNAME:Europe/Berlin CET
END:STANDARD
BEGIN:STANDARD
DTSTART:20261025T020000
RDATE:20270328T030000
TZOFFSETFROM:+0200
TZOFFSETTO:+0100
TZNAME:Europe/Berlin CET
END:STANDARD
BEGIN:STANDARD
DTSTART:20271031T020000
RDATE:20280326T030000
TZOFFSETFROM:+0200
TZOFFSETTO:+0100
TZNAME:Europe/Berlin CET
END:STANDARD
BEGIN:STANDARD
DTSTART:20281029T020000
RDATE:20290325T030000
TZOFFSETFROM:+0200
TZOFFSETTO:+0100
TZNAME:Europe/Berlin CET
END:STANDARD
BEGIN:STANDARD
DTSTART:20291028T020000
RDATE:20300331T030000
TZOFFSETFROM:+0200
TZOFFSETTO:+0100
TZNAME:Europe/Berlin CET
END:STANDARD
BEGIN:STANDARD
DTSTART:20301027T020000
RDATE:20310330T030000
TZOFFSETFROM:+0200
TZOFFSETTO:+0100
TZNAME:Europe/Berlin CET
END:STANDARD
BEGIN:STANDARD
DTSTART:20311026T020000
RDATE:20320328T030000
TZOFFSETFROM:+0200
TZOFFSETTO:+0100
TZNAME:Europe/Berlin CET
END:STANDARD
BEGIN:DAYLIGHT
DTSTART:20250330T030000
RDATE:20251026T020000
TZOFFSETFROM:+0100
TZOFFSETTO:+0200
TZNAME:Europe/Berlin CEST
END:DAYLIGHT
BEGIN:DAYLIGHT
DTSTART:20260329T030000
RDATE:20261025T020000
TZOFFSETFROM:+0100
TZOFFSETTO:+0200
TZNAME:Europe/Berlin CEST
END:DAYLIGHT
BEGIN:DAYLIGHT
DTSTART:20270328T030000
RDATE:20271031T020000
TZOFFSETFROM:+0100
TZOFFSETTO:+0200
TZNAME:Europe/Berlin CEST
END:DAYLIGHT
BEGIN:DAYLIGHT
DTSTART:20280326T030000
RDATE:20281029T020000
TZOFFSETFROM:+0100
TZOFFSETTO:+0200
TZNAME:Europe/Berlin CEST
END:DAYLIGHT
BEGIN:DAYLIGHT
DTSTART:20290325T030000
RDATE:20291028T020000
TZOFFSETFROM:+0100
TZOFFSETTO:+0200
TZNAME:Europe/Berlin CEST
END:DAYLIGHT
BEGIN:DAYLIGHT
DTSTART:20300331T030000
RDATE:20301027T020000
TZOFFSETFROM:+0100
TZOFFSETTO:+0200
TZNAME:Europe/Berlin CEST
END:DAYLIGHT
BEGIN:DAYLIGHT
DTSTART:20310330T030000
RDATE:20311026T020000
TZOFFSETFROM:+0100
TZOFFSETTO:+0200
TZNAME:Europe/Berlin CEST
END:DAYLIGHT
END:VTIMEZONE
BEGIN:VEVENT
UID:187bd6306ca965fe9668ed059e8f0188
CATEGORIES:Aktivenveranstaltungen, Sonstige musische Veranstaltungen
CREATED:20250822T102345
SUMMARY:[MVL!] - "Musisch-kulinarisches Mitbringbuffet" - ein kultureller Abend zum Mitgestalten
LOCATION:Haus der Schlaraffia Lubeca (ehem. neuapost. Kirche)\, Diamantweg 1
DESCRIPTION:Mit dem "musischen Mitbringbuffet" haben wir ein ganz eigenes Format gescha
 ffen:\nEine "offene Bühne ohne Bühne"Eine "offene Bühne" meint normalerweis
 e, dass mehrere Künstler oder Gäste spontan auf einer Bühne auftreten könne
 n. So ähnlich ist es bei uns auch - nur dass es bei uns keine Bühne gibt.\n
 Wir wollen niemanden "vorführen", sondern Möglichkeiten schaffen. Wir wolle
 n uns - wortwörtlich - in gemeinschaftlicher Runde gegenseitig Texte, Gedic
 hte, Lieder oder was auch immer präsentieren und uns gemeinsam dazu (und üb
 er andere Dinge) austauschen. Eine "offene Bühne ohne Bühne" halt.\nWenn Du
  aktiv mit einem Beitrag (ein Lied, ein selbstverfasstes Gedicht oder einfa
 ch nur eine Lesung aus einem Buch), dann wäre es sehr nett, wenn Du Dich pe
 r Mail unter Diese E-Mail-Adresse ist vor Spambots geschützt! Zur Anzeige m
 uss JavaScript eingeschaltet sein. bei uns melden könntest. Das würde uns b
 ei der Vorbereitung des Abends sehr helfen 😊 Außerdem wollen wir natürlich 
 miteinander speisen und trinken, und wenn Du dazu auch einen kleinen kulina
 rischen Breitrag leisten willst, dann würde uns das natürlich auch freuen.\
 n
X-ALT-DESC;FMTTYPE=text/html:<p>Mit dem "musischen Mitbringbuffet" haben wir ein ganz eigenes Format ges
 chaffen:</p><h3>Eine "offene Bühne ohne Bühne"</h3><p>Eine "<em>offene Bühn
 e</em>" meint normalerweise, dass mehrere Künstler oder Gäste spontan auf e
 iner Bühne auftreten können. So ähnlich ist es bei uns auch - nur dass es b
 ei uns keine Bühne gibt.</p><p>Wir wollen niemanden "<em>vorführen</em>", s
 ondern Möglichkeiten schaffen. Wir wollen uns - wortwörtlich - <strong>in g
 emeinschaftlicher Runde</strong> gegenseitig Texte, Gedichte, Lieder oder w
 as auch immer präsentieren und uns gemeinsam dazu (und über andere Dinge) a
 ustauschen. Eine "offene Bühne ohne Bühne" halt.</p><p>Wenn Du aktiv mit ei
 nem Beitrag (ein Lied, ein selbstverfasstes Gedicht oder einfach nur eine L
 esung aus einem Buch), dann wäre es sehr nett, wenn Du Dich per Mail unter 
 <joomla-hidden-mail  is-link="1" is-email="1" first="dm9yc3RhbmQ=" last="bG
 l1YmljaWEuZGU/c3ViamVjdD1NdXNpc2NoZXMlMjBNaXRicmluZ2J1ZmZldA==" text="dm9yc
 3RhbmRAbGl1YmljaWEuZGU=" base="" >Diese E-Mail-Adresse ist vor Spambots ges
 chützt! Zur Anzeige muss JavaScript eingeschaltet sein.</joomla-hidden-mail
 > bei uns melden könntest. Das würde uns bei der Vorbereitung des Abends se
 hr helfen 😊 Außerdem wollen wir natürlich miteinander speisen und trinken, 
 und wenn Du dazu auch einen kleinen kulinarischen Breitrag leisten willst, 
 dann würde uns das natürlich auch freuen.</p>
CONTACT:Diese E-Mail-Adresse ist vor Spambots geschützt! Zur Anzeige muss JavaScript eingeschaltet sein.
DTSTAMP:20260421T104141
DTSTART;TZID=Europe/Berlin:20260110T180000
DTEND;TZID=Europe/Berlin:20260110T220000
SEQUENCE:0
TRANSP:OPAQUE
END:VEVENT
END:VCALENDAR