BEGIN:VCALENDAR
VERSION:2.0
PRODID:-//jEvents 2.0 for Joomla//EN
CALSCALE:GREGORIAN
METHOD:PUBLISH
BEGIN:VTIMEZONE
TZID:Europe/Berlin
END:VTIMEZONE
BEGIN:VEVENT
UID:e70a1e844d60f48173d38e2c85fce786
CATEGORIES:Aktivenveranstaltungen, Veranstaltungen des SV-Ortsverbandes
CREATED:20240716T115318
SUMMARY:[MVL!] - Kaffeeklatsch
LOCATION:Café Steinhusen\, Am Burgfeld 3
DESCRIPTION:<p>Der Kaffee-Stammtisch des SV-Ortsverbandes. Hier treffen sich nicht nur 
 die Aktiven der Liubicia, sondern alle SVerinnen und SV, die in der näheren
  und weiteren Umgebung von Lübeck wohnen.</p>
CONTACT:Diese E-Mail-Adresse ist vor Spambots geschützt! Zur Anzeige muss JavaScript eingeschaltet sein.
DTSTAMP:20260421T213851
DTSTART;TZID=Europe/Berlin:20340319T160000
DTEND;TZID=Europe/Berlin:20340319T180000
SEQUENCE:0
TRANSP:OPAQUE
END:VEVENT
END:VCALENDAR