BEGIN:VCALENDAR
VERSION:2.0
PRODID:-//jEvents 2.0 for Joomla//EN
CALSCALE:GREGORIAN
METHOD:PUBLISH
BEGIN:VTIMEZONE
TZID:Europe/Berlin
END:VTIMEZONE
BEGIN:VEVENT
UID:5c2f418bdf84e2fd8d6e4d890448b08a
CATEGORIES:Aktivenveranstaltungen, Veranstaltungen des SV-Ortsverbandes
CREATED:20240716T120027
SUMMARY:[MVL!] - Stammtisch
LOCATION:Taj Mahal\, Große Burgstraße 59
DESCRIPTION:Stammtisch des SV-Ortsverbandes. Hier treffen sich nicht nur alle Liubicen,
  sondern auch alle SVerinnen und SVer, die in der näheren und weiteren Umge
 bung von Lübeck wohnen.\n
X-ALT-DESC;FMTTYPE=text/html:<p>Stammtisch des SV-Ortsverbandes. Hier treffen sich nicht nur alle Liubic
 en, sondern auch alle SVerinnen und SVer, die in der näheren und weiteren U
 mgebung von Lübeck wohnen.</p>
CONTACT:Diese E-Mail-Adresse ist vor Spambots geschützt! Zur Anzeige muss JavaScript eingeschaltet sein.
DTSTAMP:20260421T191800
DTSTART;TZID=Europe/Berlin:20331219T180000
DTEND;TZID=Europe/Berlin:20331219T200000
SEQUENCE:0
TRANSP:OPAQUE
END:VEVENT
END:VCALENDAR